BEGIN:VCALENDAR
VERSION:2.0
PRODID:-//Swingowisko - Informator Swingerski - ECPv6.14.0//NONSGML v1.0//EN
CALSCALE:GREGORIAN
METHOD:PUBLISH
X-ORIGINAL-URL:https://swingowisko.pl
X-WR-CALDESC:Wydarzenia dla Swingowisko - Informator Swingerski
REFRESH-INTERVAL;VALUE=DURATION:PT1H
X-Robots-Tag:noindex
X-PUBLISHED-TTL:PT1H
BEGIN:VTIMEZONE
TZID:Europe/Warsaw
BEGIN:DAYLIGHT
TZOFFSETFROM:+0100
TZOFFSETTO:+0200
TZNAME:CEST
DTSTART:20250330T010000
END:DAYLIGHT
BEGIN:STANDARD
TZOFFSETFROM:+0200
TZOFFSETTO:+0100
TZNAME:CET
DTSTART:20251026T010000
END:STANDARD
END:VTIMEZONE
BEGIN:VEVENT
DTSTART;TZID=Europe/Warsaw:20251004T210000
DTEND;TZID=Europe/Warsaw:20251005T040000
DTSTAMP:20260418T112214
CREATED:20250715T141451Z
LAST-MODIFIED:20250930T145445Z
UID:129-1759611600-1759636800@swingowisko.pl
SUMMARY:SWINGOWISKO VOL.3
DESCRIPTION:Już po raz trzeci spotykamy się\, by wspólnie przeżyć noc pełną wrażeń\, bliskości i nieskrępowanej zabawy. \nZ edycji na edycję nasze wydarzenia przyciągają coraz więcej wyjątkowych osób\, które – tak jak my – cenią sobie atmosferę wolności\, otwartości i świadomej erotyki. Tym razem przygotowaliśmy coś naprawdę specjalnego. \nTrzecia odsłona naszego wydarzenia odbędzie się w wyjątkowym miejscu – w klubie „Origami” we Wrocławiu\, który znany jest ze swojego klimatu\, dyskrecji i jakości. To idealna przestrzeń do tego\, by połączyć nasze wyjątkowe imprezowe wibracje z formatem swingerskiego spotkania. \nTen wieczór to nie tylko kolejna okazja do zabawy – to nowe możliwości\, nowe połączenia\, nowe doznania. \nDlaczego będzie wyjątkowo?\n– bo łączymy energię dobrze znaną z naszych wydarzeń z klimatem profesjonalnego klubu swingerskiego– bo zadbamy o oprawę\, detale i atmosferę\, które zapamiętacie na długo– bo – jak zawsze – stawiamy na ludzi\, relacje\, autentyczne emocje i dobrą energię \nPrzestrzeń klubu „Origami” daje ogromne możliwości: od relaksu przy barze\, przez taniec i rozmowy\, aż po eksplorację tych stref\, gdzie fantazje mogą stać się rzeczywistością. A my zadbamy o to\, byście czuli się swobodnie\, bezpiecznie i wyjątkowo. \nNie obiecujemy „kolejnej imprezy” – obiecamy Wam noc\, którą będziecie wspominać z uśmiechem\, przyspieszonym oddechem… i ochotą na więcej. \nZarezerwujcie czas\, przygotujcie się na coś\, czego jeszcze nie było – i dołączcie do nas we Wrocławiu. \nTo nie będzie zwykła impreza. To będzie Wasze miejsce. Wasz czas. Wasza noc. \nLISTA OBECNOŚCI: \n\n\n\n\n\n\n\n1.\n2Makaroniki\n \n\n\n2.\n431catto\n \n\n\n3.\nAdam310\n \n\n\n4.\nAdventureousBaddgers\n \n\n\n5.\nagamarek4\n \n\n\n6.\nAkirka1983\nzapłacone\n\n\n7.\namazonas\n \n\n\n8.\nartur6354\nzapłacone\n\n\n9.\nArturAlicja249 + MrVenom\nzapłacone\n\n\n10.\nBeverleyCraven\n \n\n\n11.\nBullfitwro\nzapłacone\n\n\n12.\nCanisLupuus\n \n\n\n13.\nczarnulkabi\nzapłacone\n\n\n14.\nDmytro\nzapłacone\n\n\n15.\nDwaDemonySeksu\nzapłacone\n\n\n16.\nEppara\nzapłacone\n\n\n17.\nEwa i Paweł\n \n\n\n18.\nEwelina M\n \n\n\n19.\nfajtek12\n \n\n\n20.\nfinefuck\nzapłacone\n\n\n21.\nFirecouple2324\n \n\n\n22.\nFitParaWroc\n \n\n\n23.\nFreewolny07\n \n\n\n24.\nFullFillment\nzapłacone\n\n\n25.\nGreyZi\n \n\n\n26.\nGuiltyPleasure71\n \n\n\n27.\nInuka46\nzapłacone\n\n\n28.\nIza i Mariusz\nzapłacone\n\n\n29.\nJohnssson\n \n\n\n30.\nKardamon_Lukrecja\n \n\n\n31.\nKlawy818\n \n\n\n32.\nLubimy_slonce\n \n\n\n33.\nLustJoy\nzapłacone\n\n\n34.\nMagnum324\n \n\n\n35.\nMalzenstwo4143\nzapłacone\n\n\n36.\nm\n \n\n\n37.\nmarshmallows\nzapłacone\n\n\n38.\nMiiladyMiilord Maja Kamila Ela\nzapłacone\n\n\n39.\nMilaPara007\nzapłacone\n\n\n40.\nMilonAlisa \nzapłacone\n\n\n41.\nMilox69\n \n\n\n42.\nmloda_parka_wroclaw\nzapłacone\n\n\n43.\nmonioolo\n \n\n\n44.\nMotoparadlsk\nzapłacone\n\n\n45.\nMrs_Lilly\n \n\n\n46.\nNightmare30\n \n\n\n47.\nNot2bad\nzapłacone\n\n\n48.\nona42on44wroc\n \n\n\n49.\nPaniKPanM\n \n\n\n50.\npara3747\n \n\n\n51.\npara8384_lodz\n \n\n\n52.\nParaKrkDK\n \n\n\n53.\nParametr\nzapłacone\n\n\n54.\nParawarszawa2023\n \n\n\n55.\nPaulielka\n \n\n\n56.\nP (singielka)\nzapłacone\n\n\n57.\nPieknaiDevilDLS\n \n\n\n58.\nRollercoastercouple\nzapłacone\n\n\n59.\nSelene13\nzapłacone\n\n\n60.\nSergio_Minetti69\n \n\n\n61.\nSexcouples\n \n\n\n62.\nSexy712\n \n\n\n63.\nStrawberryCacke\n \n\n\n64.\nsweetdelight8180\n \n\n\n65.\nswingpara44\nzapłacone\n\n\n66.\nSzarakiPG\nzapłacone\n\n\n67.\ntajta\nzapłacone\n\n\n68.\nTantumtantu\n \n\n\n69.\nUnique_couple_\nzapłacone\n\n\n70.\nVanilla_hard +  Szarmancki_dran\nzapłacone\n\n\n71.\nWeMe1986X\nzapłacone\n\n\n72.\nweselizawsze\n \n\n\n73.\nWroclove79i91\nzapłacone\n\n\n74.\nxanadu11\nzapłacone\n\n\n75.\nXY_XX\n \n\n\n76.\nZajaczki_razem\n \n\n\n77.\nZajefajniwroc\n \n\n\n78.\nZuzaMarcin
URL:https://swingowisko.pl/event/swingowisko-vol-3/
LOCATION:ORIGAMI\, Aleksandra Zelwerowicza 18a\, 53-676 Wrocław
ATTACH;FMTTYPE=image/jpeg:https://swingowisko.pl/wp-content/uploads/2025/07/Swingowisko-VOL3-impreza-swing-Wroclaw.jpg
END:VEVENT
END:VCALENDAR