BEGIN:VCALENDAR
VERSION:2.0
PRODID:-//Swingowisko - Informator Swingerski - ECPv6.14.0//NONSGML v1.0//EN
CALSCALE:GREGORIAN
METHOD:PUBLISH
X-WR-CALNAME:Swingowisko - Informator Swingerski
X-ORIGINAL-URL:https://swingowisko.pl
X-WR-CALDESC:Wydarzenia dla Swingowisko - Informator Swingerski
REFRESH-INTERVAL;VALUE=DURATION:PT1H
X-Robots-Tag:noindex
X-PUBLISHED-TTL:PT1H
BEGIN:VTIMEZONE
TZID:Europe/Warsaw
BEGIN:DAYLIGHT
TZOFFSETFROM:+0100
TZOFFSETTO:+0200
TZNAME:CEST
DTSTART:20250330T010000
END:DAYLIGHT
BEGIN:STANDARD
TZOFFSETFROM:+0200
TZOFFSETTO:+0100
TZNAME:CET
DTSTART:20251026T010000
END:STANDARD
END:VTIMEZONE
BEGIN:VEVENT
DTSTART;TZID=Europe/Warsaw:20251206T210000
DTEND;TZID=Europe/Warsaw:20251207T040000
DTSTAMP:20260418T110900
CREATED:20250803T145950Z
LAST-MODIFIED:20251203T211413Z
UID:533-1765054800-1765080000@swingowisko.pl
SUMMARY:SWINGOWISKO VOL.4
DESCRIPTION:SWINGOWISKO VOL.4  – MIKOŁAJKI w Kielce Prive Club \nZapraszamy Was na wyjątkowe wydarzenie – czwartą edycję SWINGOWISKA\, tym razem w świątecznym\, pełnym namiętności klimacie Mikołajek! Spotykamy się w gościnnych progach Prive Club w Kielcach\, aby wspólnie stworzyć wieczór\, który zapadnie w pamięć na długo – nie tylko ze względu na świąteczne skojarzenia\, ale przede wszystkim dzięki atmosferze otwartości\, zmysłowości i wzajemnego szacunku. \nWspólnie z zespołem Prive zadbamy o każdy detal\, tworząc przestrzeń\, w której rozkosz spotyka się z klasą\, a intymność przeplata się z ekscytującą zabawą. Nasze wydarzenia to nie tylko imprezy – to społeczność\, styl życia i jakość\, której zaufały setki par z całej Polski. \nCo Was czeka tej nocy? \n✨ Wyjątkowa oprawa świąteczna\nPrzygotowaliśmy dla Was pełną atmosferę Mikołajkowej nocy – od dekoracji\, przez zapachy\, po nastrojowe oświetlenie i sensualną muzykę. Będzie gorąco\, choć za oknem może już prószyć śnieg… \n✨ Zmysłowe dodatki i identyfikacja gości\nJak zawsze\, każdy z uczestników otrzyma personalizowane znaczki\, które pomogą subtelnie wyrazić swoje preferencje i granice. To prosty\, elegancki sposób na nawiązanie kontaktu bez niezręczności. \n✨ Pokazy i niespodzianki\nW trakcie wieczoru nie zabraknie artystycznych\, zmysłowych pokazów i animacji – wszystko w duchu swobodnej erotyki i dobrej zabawy. Obiecujemy zaskoczenia\, które idealnie wpasują się w atmosferę Mikołajkowego flirtu. \n✨ Bezpieczeństwo\, dyskrecja i komfort\nJak zawsze\, ogromną wagę przywiązujemy do poczucia bezpieczeństwa i wzajemnego szacunku. Przestrzeń klubu została zaprojektowana tak\, by zapewniać komfort zarówno parom stawiającym pierwsze kroki\, jak i doświadczonym uczestnikom sceny swingerskiej. \nDla kogo jest to wydarzenie? \nDla wszystkich\, którzy:\n– są otwarci na nowe doświadczenia\,\n– cenią intymność\, elegancję i dobrą energię\,\n– chcą poznać ludzi podobnych sobie\,\n– chcą poczuć klimat wspólnoty\, gdzie nikt nie ocenia\, a wszystko odbywa się z klasą. \nNie trzeba być „doświadczonym swingersem” – wystarczy szczera chęć\, szacunek do innych i odrobina świątecznego szaleństwa \nOrganizatorzy \nWydarzenie współtworzą:zespół SWINGOWISKO.PL – twórcy kultowych imprez w całej Polsce\,oraz @PriveClubKielce – renomowany klub swingerski z sercem i klimatem. \nWspólnie gwarantujemy Wam jakość\, dyskrecję i atmosferę\, którą trudno znaleźć gdziekolwiek indziej. \nGdzie i kiedy? \n6 grudnia 2025 (sobota)Prive Club\, Kielce⏰ Start: 21:00Wstęp dla par\, kobiet i singli (w ograniczonym zakresie)–  rezerwacja obowiązkowa. \nNiech ta noc będzie Twoją najgorętszą Mikołajkową przygodą.Ubierz się sexy\, zabierz otwartość i pozwól sobie na więcej… \nLista osób zapisanych: \n\n\n\n1\n_7778_\n\n\n\n2\n2razem2\n\n\n\n3\nAdamPati1\nzapłacone\n\n\n4\nADPodbeskidzie2\nzapłacone\n\n\n5\nakwarele\nzapłacone\n\n\n6\nAnita i Maciek\n\n\n\n7\ncepelin4\nzapłacone\n\n\n8\nCkkocuryy\nzapłacone\n\n\n9\nDannysuu\n\n\n\n10\nD…\n\n\n\n11\nDiJnaturist\nzapłacone\n\n\n12\nDominic9\nzapłacone\n\n\n13\nDzik__\nzapłacone\n\n\n14\nFilippe89\n\n\n\n15\nFreewolny07\n\n\n\n16\ngwiazdka_para\nzapłacone\n\n\n17\nHekate1987\nzapłacone\n\n\n18\nHorned_Helios\n\n\n\n19\nIce_Queen8070\nzapłacone\n\n\n20\nKasia i Michał\nzapłacone\n\n\n21\nKati1187\n\n\n\n22\nLeeila\nzapłacone\n\n\n23\nLetMeBeYourFantasy9091\n\n\n\n24\nLublin4546\n\n\n\n25\nMike_Ana\n\n\n\n26\nMikimonst\n\n\n\n27\nmy3839wwa\nzapłacone\n\n\n28\nNaguska856\n\n\n\n29\nNNNS\n\n\n\n30\nOn901223\n\n\n\n31\nOnKrakow1979\nzapłacone\n\n\n32\nPara_GBP\nzapłacone\n\n\n33\nParadlaPary7679\n\n\n\n34\nParaZIskra\n\n\n\n35\nparka3034sa\nzapłacone\n\n\n36\nParkaLublin2005\nzapłacone\n\n\n37\nPati86Patryk80\nzapłacone\n\n\n38\nP….\n\n\n\n39\nPM_2018\n\n\n\n40\nRazem17lat\n\n\n\n41\nRocco_Mia\n\n\n\n42\nrooobib\n\n\n\n43\nRurki40\nzapłacone\n\n\n44\nS_Muerte89\nzapłacone\n\n\n45\nSexycouplee69\n\n\n\n46\nSzukajacy92pom\n\n\n\n47\nToOnaZNim\nzapłacone\n\n\n48\nwrrr7\n\n\n\n49\nXavier2025\nzapłacone\n\n\n50\nZabawaxx69
URL:https://swingowisko.pl/event/swingowisko-vol-4/
LOCATION:PRIVE KIELCE\, Suków 196\, 26-021 Suków
ATTACH;FMTTYPE=image/jpeg:https://swingowisko.pl/wp-content/uploads/2025/07/Swingers-party-Kielce-klub-PRIVE-1.jpeg
END:VEVENT
END:VCALENDAR