BEGIN:VCALENDAR
VERSION:2.0
PRODID:-//Swingowisko - Informator Swingerski - ECPv6.14.0//NONSGML v1.0//EN
CALSCALE:GREGORIAN
METHOD:PUBLISH
X-WR-CALNAME:Swingowisko - Informator Swingerski
X-ORIGINAL-URL:https://swingowisko.pl
X-WR-CALDESC:Wydarzenia dla Swingowisko - Informator Swingerski
REFRESH-INTERVAL;VALUE=DURATION:PT1H
X-Robots-Tag:noindex
X-PUBLISHED-TTL:PT1H
BEGIN:VTIMEZONE
TZID:Europe/Warsaw
BEGIN:DAYLIGHT
TZOFFSETFROM:+0100
TZOFFSETTO:+0200
TZNAME:CEST
DTSTART:20250330T010000
END:DAYLIGHT
BEGIN:STANDARD
TZOFFSETFROM:+0200
TZOFFSETTO:+0100
TZNAME:CET
DTSTART:20251026T010000
END:STANDARD
END:VTIMEZONE
BEGIN:VEVENT
DTSTART;TZID=Europe/Warsaw:20250809T210000
DTEND;TZID=Europe/Warsaw:20250810T040000
DTSTAMP:20260418T111814
CREATED:20250715T140116Z
LAST-MODIFIED:20250721T144556Z
UID:121-1754773200-1754798400@swingowisko.pl
SUMMARY:W PÓŁMROKU – URODZINY MAĆKA
DESCRIPTION:URODZINY MAĆKA – wyjątkowa noc w ciemności… \nTym razem zapraszamy Was na imprezę inną niż wszystkie dotychczasowe. To nie będzie kolejna zwykła sobota w klubie. To będzie noc tajemnic\, zmysłów i ekscytującej gry światła… a właściwie jego braku. \nZ okazji urodzin Maćka – jednej z najbardziej znanych i lubianych postaci naszej społeczności – przygotowaliśmy dla Was wydarzenie\, które wymyka się standardom. To będzie wieczór z nutą eksperymentu\, wyobraźni i pełnej swobody\, gdzie każdy ruch\, dotyk i spojrzenie zyskują zupełnie inny wymiar. \nCiemność ma swoje zasady…Tego wieczoru nasz klub zanurzy się niemal całkowicie w mroku. Delikatne światło zostanie jedynie przy barze\, na schodach oraz w playroomie – tylko tyle\, ile trzeba\, by czuć się bezpiecznie… i nic więcej. To właśnie ciemność stanie się głównym bohaterem tej nocy. \nAle spokojnie – nie zostawimy Was całkiem po omacku! Każdy uczestnik otrzyma specjalną opaskę LED\, która:\n– pulsuje w rytm muzyki– świeci w różnych kolorach\, tworząc zmysłową grę świateł– subtelnie podkreśla Waszą obecność i nastrój \nTo światło nie będzie tylko dekoracją – stanie się narzędziem flirtu\, tajemniczego przyciągania\, subtelnej komunikacji bez słów. Ciała ukryte w półmroku\, ruchy jedynie zaznaczone w kolorowych błyskach… Zmysły się wyostrzają\, a fantazja zaczyna działać mocniej niż kiedykolwiek. \nCzego się spodziewać?\n– wyjątkowej\, intymnej atmosfery– minimalnego oświetlenia – maksymalnej wolności– energetycznej muzyki i delikatnych\, pulsujących świateł– klimatycznych przestrzeni sprzyjających poznawaniu się w nietypowy sposób– stref relaksu i playroomów\, w których dotyk i bliskość nabiorą zupełnie nowego znaczenia \nTo impreza dla tych\, którzy nie boją się wejść w świat zmysłów\, pozwolić prowadzić się intuicji i wyobraźni. Tu nic nie jest podane wprost – wszystko zależy od tego\, jak bardzo dacie się ponieść. \nNiech ta noc stanie się prezentem – nie tylko dla Maćka\, ale i dla Was. \nZgaś światło. Włącz zmysły. Poczuj\, jak to jest\, gdy nie widzisz… a czujesz więcej niż kiedykolwiek. \nZarezerwujcie miejsce wcześniej – liczba opasek (i miejsc!) ograniczona. \nLISTA GOŚCI:\n1 77_78 1 2 ad8ba zp 2 3 AgasToms5 2 4 Amanti69 2 5 AnanaskiWawa 2 6 AniolDemonSinners 2 7 Anmar137 2 8 atrakcyjni_mazowsze40 2 9 Bea_And zp 1 10 chipanddale 2 11 D_I_V_A 1 12 darmanpara1 2 13 doktore1159 zp 1 14 DragonWaw zp 1 15 FiglarniFiluterni 2 16 grejs196 2 17 Hekate1987 zp 1 18 Kamil_93 1 19 KatarzynaiOn 2 20 kilerk 1 21 kinkylovers zp 2 22 Konkak 1 23 Kotacze 2 24 Kotekhotek 2 25 Lkpara30 2 26 magic_kot 2 27 Mamrekin zp 2 28 mariage07 zp 2 29 MazuryMK 2 30 my3839wwa 2 31 NieMaWolnychNikow zp 2 32 Noughtygirl3 1 33 Nowi7775 2 34 Ognisko_w_basenie + singielka 3 35 Our_Fantasies 2 36 OwlsSoul 1 37 PanPaniSmith_Kr 2 38 ParaMieszanaBardzoZakochana 2 39 ParaWwoHot 2 40 Parazsasiedztwa69 2 41 parka8282303 2 42 PiriPiri69 + para spoza zb 4 43 Radzioo20 1 44 Rafalxxx1976 1 45 Razem17lat 2 46 secret_fantasies91 2 47 Seksowni87 zp 2 48 Selene13 1 49 Sensualna_ParKa 2 50 skyper25 + LeChatNoir 2 51 SukaijejPanPowrot 2 52 Sweettatoo3839 2 53 Szalonanapalona69 1 54 The_Master_and_Margarita 2 55 Tri 6 56 Vesperka 1 57 ZabawaEM 2 58 Zwariowana_ 2 59 jan150973 2
URL:https://swingowisko.pl/event/w-polmroku-urodziny-macka/
LOCATION:XOXO\, Marii Konopnickiej 6\, Warszawa
ATTACH;FMTTYPE=image/jpeg:https://swingowisko.pl/wp-content/uploads/2025/07/Urodziny-Macka-impreza-swing-Warszawa.jpg
END:VEVENT
END:VCALENDAR