BEGIN:VCALENDAR
VERSION:2.0
PRODID:-//Swingowisko - Informator Swingerski - ECPv6.14.0//NONSGML v1.0//EN
CALSCALE:GREGORIAN
METHOD:PUBLISH
X-ORIGINAL-URL:https://swingowisko.pl
X-WR-CALDESC:Wydarzenia dla Swingowisko - Informator Swingerski
REFRESH-INTERVAL;VALUE=DURATION:PT1H
X-Robots-Tag:noindex
X-PUBLISHED-TTL:PT1H
BEGIN:VTIMEZONE
TZID:Europe/Warsaw
BEGIN:DAYLIGHT
TZOFFSETFROM:+0100
TZOFFSETTO:+0200
TZNAME:CEST
DTSTART:20250330T010000
END:DAYLIGHT
BEGIN:STANDARD
TZOFFSETFROM:+0200
TZOFFSETTO:+0100
TZNAME:CET
DTSTART:20251026T010000
END:STANDARD
END:VTIMEZONE
BEGIN:VEVENT
DTSTART;TZID=Europe/Warsaw:20250905T210000
DTEND;TZID=Europe/Warsaw:20250906T040000
DTSTAMP:20260418T114009
CREATED:20250715T140329Z
LAST-MODIFIED:20250905T113029Z
UID:124-1757106000-1757131200@swingowisko.pl
SUMMARY:WITAJ SZKOŁO
DESCRIPTION:Choć rok szkolny jeszcze nie ruszył pełną parą\, lato wciąż rozpieszcza nas ciepłymi wieczorami i zaprasza do ostatnich\, wakacyjnych uniesień. To doskonały moment\, by choć na chwilę zapomnieć o codzienności i zanurzyć się w świat fantazji\, który wielu z nas od lat nosi gdzieś głęboko w sobie… \nBo powiedzmy sobie szczerze – kto nigdy nie marzył o pięknej nauczycielce w zmysłowej garsonce i okularach na końcu nosa\, surowej\, ale tajemniczo uśmiechniętej? Albo o przystojnym nauczycielu\, który twardą ręką prowadzi lekcję\, a jego głos działa bardziej niż niejedna komenda? A może to Wy lubicie odgrywać rolę niegrzecznych uczniów i uczennic – tych\, którzy muszą zostać po lekcjach… za karę albo dla przyjemności? \nJeśli choć jedna z tych wizji wywołała u Was uśmiech (lub coś więcej…)\, to znak\, że ta impreza jest właśnie dla Was! \nZapraszamy Was na wyjątkowe swingers party z motywem szkolnym\, gdzie granice między klasą a klubem całkowicie się zacierają. Wcielcie się w role\, które od zawsze Was kusiły – bez wstydu\, bez ocen\, bez ograniczeń. \nPrzygotujcie się na noc pełną flirtu\, śmiechu\, ekscytacji i cielesnej bliskości w otoczeniu ludzi\, którzy – tak jak Wy – wiedzą\, że życie jest za krótkie\, by rezygnować z własnych pragnień. Przebrania są mile widziane – nauczycielki\, profesorowie\, uczennice\, szkolni łobuziacy… puśćcie wodze fantazji i pokażcie swoją kreatywność. Dla najbardziej pomysłowych – niespodzianki! \nNa miejscu czeka na Was:\n– zmysłowa\, tematyczna oprawa muzyczna i wizualna– komfortowa\, intymna przestrzeń sprzyjająca rozmowom i zabawie– selekcja gości – stawiamy na jakość i atmosferę– przyjazna\, bezpieczna przestrzeń dla par i singli otwartych na nowe doświadczenia– mini-konkursy\, erotyczne zabawy i miejsca do… kontynuowania lekcji w praktyce \nTen wieczór to nie grzeczne zebranie z wychowawcą – to dzika\, nieokiełznana lekcja przyjemności\, w której nikt nie musi udawać\, że nie zna odpowiedzi. \nDołączcie do naszej klasy rozkoszy – nie trzeba przynosić zeszytu ani długopisu. Wystarczy odrobina odwagi i chęć przeżycia czegoś naprawdę ekscytującego. \nZapiszcie się już teraz – liczba miejsc ograniczona. Bo takich lekcji nie zapomina się nigdy. \nLISTA UCZESTNIKÓW: \n\n\n\n\n\n\n\n1.\n2Krokodyle\n \n\n\n2.\n69Dominantus\n \n\n\n3.\n77_78\n \n\n\n4.\n89fuckcouple89\n \n\n\n5.\nAlvares13\n \n\n\n6.\nAmanti69\n \n\n\n7.\nAmson + Beata\nzapłacone\n\n\n8.\nAnanaskiWawa\n \n\n\n9.\nAneyatoo + Nuclear_Winter87\nzapłacone\n\n\n10.\nAniolDemonSinners\nzapłacone\n\n\n11.\natrakcyjni_mazowsze40\n \n\n\n12.\nBardzofajni1982 + Fajny Karol\n \n\n\n13.\nBartex95\nzapłacone\n\n\n14.\nbatcat111\n \n\n\n15.\nBetterThanPerfect\n \n\n\n16.\nblackangel696\nzapłacone\n\n\n17.\nChcialamBycGrzeczna\n \n\n\n18.\nChicabella\n \n\n\n19.\nCrazyCouple_82_83\n \n\n\n20.\ndarmanpara1\n \n\n\n21.\nDonka99\nzapłacone\n\n\n22.\nDoNogiSuczkoo\n \n\n\n23.\nDopasowaniAiA\nzapłacone\n\n\n24.\nDziewczyna_Szejka\n \n\n\n25.\nEntuzjazm_\nzapłacone\n\n\n26.\nfalcons\nzapłacone\n\n\n27.\nFiglarniFiluterni\nzapłacone\n\n\n28.\nfiglarnyduet\n \n\n\n29.\nfredbotha\n \n\n\n30.\nGregCC\n \n\n\n31.\nGreyZi\nzapłacone\n\n\n32.\ngwiazdka_para\nzapłacone\n\n\n33.\nheelsandstockings\nzapłacone\n\n\n34.\nHotHarmonyInDaSoul\nzapłacone\n\n\n35.\nHotMarriage\n \n\n\n36.\nJannMik\nzapłacone\n\n\n37.\nJo_and_Ja\n \n\n\n38.\nJohnnybravo9\nzapłacone\n\n\n39.\nJustMarriedCouple\nzapłacone\n\n\n40.\nKarolina8698\n \n\n\n41.\nkilerk\n \n\n\n42.\nkonkretbull00\n \n\n\n43.\nK………………………\nzapłacone\n\n\n44.\nKriss181\n \n\n\n45.\nMagnificentXXX\nzapłacone\n\n\n46.\nMamrekin\nzapłacone\n\n\n47.\nMaranta\n \n\n\n48.\nMarcin1000100\n \n\n\n49.\nMartikaKristo + para\n \n\n\n50.\nMASTER_and_MARGOT\nzapłacone\n\n\n51.\nMel34iPaw40\n \n\n\n52.\nM…………………..\n \n\n\n53.\nMiJBielsko\nzapłacone\n\n\n54.\nmonioolo\n \n\n\n55.\nMontecarlo77\nzapłacone\n\n\n56.\nMs201 + partnerka\nzapłacone\n\n\n57.\nmy3839wwa + Aga\nzapłacone\n\n\n58.\nmymega\n \n\n\n59.\nNasze_Shepty\nzapłacone\n\n\n60.\nNerotic\n \n\n\n61.\nNicolAndPeter\nzapłacone\n\n\n62.\nNiegrzeczna_beautiful\n \n\n\n63.\nnightrunner\n \n\n\n64.\nNowi7775\nzapłacone\n\n\n65.\nOgnisko_w_basenie\n \n\n\n66.\nOhh_Tak\nzapłacone\n\n\n67.\nokramm\nzapłacone\n\n\n68.\non1980ona1982\n \n\n\n69.\nonisa2\n \n\n\n70.\nOur_Fantasies\n \n\n\n71.\nOwlsSoul + AmaiAkuma\nzapłacone\n\n\n72.\nPan_M_\n \n\n\n73.\nPaniPaniZdecydowani\nzapłacone\n\n\n74.\nParaBumWawa\nzapłacone\n\n\n75.\nParaKrkDK\n \n\n\n76.\nparka8282303\nzapłacone\n\n\n77.\nParkaLublin2005\nzapłacone\n\n\n78.\nPerfectly_Matched_wwa\n \n\n\n79.\nPhil27\n \n\n\n80.\nPiękna i Bestia\n \n\n\n81.\nPisarzemilosci\n \n\n\n82.\nPlayPartner\nzapłacone\n\n\n83.\nPM_2018\n \n\n\n84.\nPozytywnie_szaleni\n \n\n\n85.\nRadzioo20\n \n\n\n86.\nrenard69\n \n\n\n87.\nRocco_7533 + Mia230180\n \n\n\n88.\nSabad2_0 + El Doctore\n \n\n\n89.\nSelene13\nzapłacone\n\n\n90.\nsexVfun\nzapłacone\n\n\n91.\nSingielPary\nzapłacone\n\n\n92.\nSlow_sex\nzapłacone\n\n\n93.\nSoldado_del_fuego\n \n\n\n94.\nSpokopara21\n \n\n\n95.\nstefan333333\n \n\n\n96.\nsweatingbullets\n \n\n\n97.\nsweetdelight8180\n \n\n\n98.\nSzalonanapalona69\nzapłacone\n\n\n99.\nTachykardia\nzapłacone\n\n\n100.\nTen1Nick6JestJuz2ajety\n \n\n\n101.\nTogether8282+nrrs i mr grey\nzapłacone\n\n\n102.\nTomek08181\nzapłacone\n\n\n103.\nToMyZakochani\n \n\n\n104.\nTri\nzapłacone\n\n\n105.\nTypera1995\n \n\n\n106.\nVixens\nzapłacone\n\n\n107.\nWarsawNightDream\n \n\n\n108.\nweknow\nzapłacone\n\n\n109.\nwiecznie_usmiechnieci_2\nzapłacone\n\n\n110.\nWorkout + GnT\n \n\n\n111.\nwstydliwi3 Welna1234\nzapłacone\n\n\n112.\nWszystkoRazem13\nzapłacone\n\n\n113.\nZabawaEM\nzapłacone\n\n\n114.\nZ………………..\n \n\n\n115.\nZimnydrnan95\n \n\n\n116.\nFoczkiWAW\nzapłacone\n\n\n117.\nTechnozboki\n \n\n\n118.\n__cherries\n \n\n\n119.\nChetni6999\n \n\n\n120.\nEwa + Rafał\n \n\n\n121.\nOziozww\n \n\n\n122.\nPawcio80waw
URL:https://swingowisko.pl/event/witaj-szkolo/
LOCATION:XOXO\, Marii Konopnickiej 6\, Warszawa
ATTACH;FMTTYPE=image/jpeg:https://swingowisko.pl/wp-content/uploads/2025/07/Witaj-Szkolo-impreza-swing-Warszawa.jpg
END:VEVENT
END:VCALENDAR